BEGIN:VCALENDAR
VERSION:2.0
PRODID:-//RIGHTHERE//CALENDARIZE IT V3.2//EN
BEGIN:VTIMEZONE
TZID:America/New_York
X-MICROSOFT-CDO-TZID:10
BEGIN:STANDARD
DTSTART:20251102T060000
TZOFFSETFROM:-0400
TZOFFSETTO:-0500
TZNAME:EST
END:STANDARD
BEGIN:DAYLIGHT
DTSTART:20260308T070000
TZOFFSETFROM:-0500
TZOFFSETTO:-0400
TZNAME:EDT
END:DAYLIGHT
BEGIN:STANDARD
DTSTART:20261101T060000
TZOFFSETFROM:-0400
TZOFFSETTO:-0500
TZNAME:EST
END:STANDARD
END:VTIMEZONE
BEGIN:VEVENT
UID:3928-events@womansclubofroyersford.com
DTSTART;VALUE=DATE:20230624
DTEND;VALUE=DATE:20230624
DTSTAMP;TZID=America/New_York:20230627T110303
SUMMARY:WCOR at Farmer’s Market
RDATE;TZID=America/New_York;VALUE=PERIOD:20230722T000000/20230722T000000,20
 230819T000000/20230819T000000,20230916T000000/20230916T000000,20231014T000
 000/20231014T000000,20231111T000000/20231111T000000
URL:https://womansclubofroyersford.com/events/wcor-at-farmers-market/
END:VEVENT
END:VCALENDAR