BEGIN:VCALENDAR
VERSION:2.0
PRODID:-//RIGHTHERE//CALENDARIZE IT V3.2//EN
BEGIN:VTIMEZONE
TZID:America/New_York
X-MICROSOFT-CDO-TZID:10
BEGIN:STANDARD
DTSTART:20251102T060000
TZOFFSETFROM:-0400
TZOFFSETTO:-0500
TZNAME:EST
END:STANDARD
BEGIN:DAYLIGHT
DTSTART:20260308T070000
TZOFFSETFROM:-0500
TZOFFSETTO:-0400
TZNAME:EDT
END:DAYLIGHT
BEGIN:STANDARD
DTSTART:20261101T060000
TZOFFSETFROM:-0400
TZOFFSETTO:-0500
TZNAME:EST
END:STANDARD
END:VTIMEZONE
BEGIN:VEVENT
UID:3934-events@womansclubofroyersford.com
DTSTART;TZID=America/New_York:20231018T080000
DTEND;TZID=America/New_York:20231018T230000
DTSTAMP;TZID=America/New_York:20230627T110810
SUMMARY:Boscov’s Friends Helping Friends Event
URL:https://womansclubofroyersford.com/events/boscovs-friends-helping-frien
 ds-event/
END:VEVENT
END:VCALENDAR